BEGIN:VCALENDAR
VERSION:2.0
PRODID:-//https://www.gclra.realtor//NONSGML kigkonsult.se iCalcreator 2.41.71//
CALSCALE:GREGORIAN
METHOD:PUBLISH
UID:62326139-6366-4462-b962-653461613064
X-WR-CALNAME:JCal Pro Calendar
X-WR-CALDESC:Your online events calendar
X-WR-TIMEZONE:America/Chicago
BEGIN:VTIMEZONE
TZID:America/Chicago
TZUNTIL:20271107T070000Z
BEGIN:STANDARD
TZNAME:CST
DTSTART:20251102T020000
TZOFFSETFROM:-0500
TZOFFSETTO:-0600
RDATE:20261101T020000
END:STANDARD
BEGIN:DAYLIGHT
TZNAME:CDT
DTSTART:20260308T020000
TZOFFSETFROM:-0600
TZOFFSETTO:-0500
RDATE:20270314T020000
END:DAYLIGHT
END:VTIMEZONE
BEGIN:VEVENT
UID:20220113T100000CST-36345zvLU3@https://gclra.realtor/
DTSTAMP:20260420T142125Z
CATEGORIES:Meetings
DTSTART;TZID=America/Chicago:20220113T100000
DTEND;TZID=America/Chicago:20220113T110000
RRULE:FREQ=MONTHLY;COUNT=11;INTERVAL=1;BYDAY=TH;BYSETPOS=2
SUMMARY:Finance Meeting
URL:https://www.gclra.realtor/consumer-events/81-meetings/3675-finance-meet
 ing
END:VEVENT
END:VCALENDAR
