BEGIN:VCALENDAR
VERSION:2.0
PRODID:-//https://www.gclra.realtor//NONSGML kigkonsult.se iCalcreator 2.41.71//
CALSCALE:GREGORIAN
METHOD:PUBLISH
UID:30626330-6631-4636-b830-633366393433
X-WR-CALNAME:JCal Pro Calendar
X-WR-CALDESC:Your online events calendar
X-WR-TIMEZONE:America/Chicago
BEGIN:VTIMEZONE
TZID:America/Chicago
TZUNTIL:20271107T070000Z
BEGIN:STANDARD
TZNAME:CST
DTSTART:20251102T020000
TZOFFSETFROM:-0500
TZOFFSETTO:-0600
RDATE:20261101T020000
END:STANDARD
BEGIN:DAYLIGHT
TZNAME:CDT
DTSTART:20260308T020000
TZOFFSETFROM:-0600
TZOFFSETTO:-0500
RDATE:20270314T020000
END:DAYLIGHT
END:VTIMEZONE
BEGIN:VEVENT
UID:20220215T090000CST-93027kMFis@https://gclra.realtor/
DTSTAMP:20260422T171044Z
CATEGORIES:Professional Development Committee
DTSTART;TZID=America/Chicago:20220215T090000
DTEND;TZID=America/Chicago:20220215T160000
SUMMARY:SFR Certification
URL:https://www.gclra.realtor/consumer-events/75-professional-development-c
 alendar/3712-sfr-certification
END:VEVENT
END:VCALENDAR
