BEGIN:VCALENDAR
VERSION:2.0
PRODID:-//https://www.gclra.realtor//NONSGML kigkonsult.se iCalcreator 2.41.71//
CALSCALE:GREGORIAN
METHOD:PUBLISH
UID:37623663-3230-4264-a432-353531663434
X-WR-CALNAME:JCal Pro Calendar
X-WR-CALDESC:Your online events calendar
X-WR-TIMEZONE:America/Chicago
BEGIN:VTIMEZONE
TZID:America/Chicago
TZUNTIL:20271107T070000Z
BEGIN:STANDARD
TZNAME:CST
DTSTART:20251102T020000
TZOFFSETFROM:-0500
TZOFFSETTO:-0600
RDATE:20261101T020000
END:STANDARD
BEGIN:DAYLIGHT
TZNAME:CDT
DTSTART:20260308T020000
TZOFFSETFROM:-0600
TZOFFSETTO:-0500
RDATE:20270314T020000
END:DAYLIGHT
END:VTIMEZONE
BEGIN:VEVENT
UID:20220316T080000CDT-5367skvDP6@https://gclra.realtor/
DTSTAMP:20260424T155201Z
CATEGORIES:Meetings
DTSTART;TZID=America/Chicago:20220316T080000
DTEND;TZID=America/Chicago:20220316T170000
SUMMARY:Leadership Meetings
URL:https://www.gclra.realtor/consumer-events/81-meetings/3819-leadership-m
 eetings
END:VEVENT
END:VCALENDAR
