BEGIN:VCALENDAR
VERSION:2.0
PRODID:-//https://www.gclra.realtor//NONSGML kigkonsult.se iCalcreator 2.41.71//
CALSCALE:GREGORIAN
METHOD:PUBLISH
UID:39323465-6566-4532-a637-636463313634
X-WR-CALNAME:JCal Pro Calendar
X-WR-CALDESC:Your online events calendar
X-WR-TIMEZONE:America/Chicago
BEGIN:VTIMEZONE
TZID:America/Chicago
TZUNTIL:20271107T070000Z
BEGIN:STANDARD
TZNAME:CST
DTSTART:20251102T020000
TZOFFSETFROM:-0500
TZOFFSETTO:-0600
RDATE:20261101T020000
END:STANDARD
BEGIN:DAYLIGHT
TZNAME:CDT
DTSTART:20260308T020000
TZOFFSETFROM:-0600
TZOFFSETTO:-0500
RDATE:20270314T020000
END:DAYLIGHT
END:VTIMEZONE
BEGIN:VEVENT
UID:20220515T080000CDT-2673iDuds9@https://gclra.realtor/
DTSTAMP:20260420T141112Z
CATEGORIES:Meetings
DTSTART;TZID=America/Chicago:20220515T080000
DTEND;TZID=America/Chicago:20220518T170000
SUMMARY:Louisiana Realtors Spring Conference
URL:https://www.gclra.realtor/consumer-events/81-meetings/3825-lr-conferenc
 e
END:VEVENT
END:VCALENDAR
