BEGIN:VCALENDAR
VERSION:2.0
PRODID:-//https://www.gclra.realtor//NONSGML kigkonsult.se iCalcreator 2.41.71//
CALSCALE:GREGORIAN
METHOD:PUBLISH
UID:39346231-3334-4935-a231-336231353232
X-WR-CALNAME:JCal Pro Calendar
X-WR-CALDESC:Your online events calendar
X-WR-TIMEZONE:America/Chicago
BEGIN:VTIMEZONE
TZID:America/Chicago
TZUNTIL:20271107T070000Z
BEGIN:STANDARD
TZNAME:CST
DTSTART:20251102T020000
TZOFFSETFROM:-0500
TZOFFSETTO:-0600
RDATE:20261101T020000
END:STANDARD
BEGIN:DAYLIGHT
TZNAME:CDT
DTSTART:20260308T020000
TZOFFSETFROM:-0600
TZOFFSETTO:-0500
RDATE:20270314T020000
END:DAYLIGHT
END:VTIMEZONE
BEGIN:VEVENT
UID:20210720T100000CDT-3298UgHHJi@http://lt19iws.rapams.com/
DTSTAMP:20260420T171610Z
CATEGORIES:Affiliate & Membership Events
DTSTART;TZID=America/Chicago:20210720T100000
DTEND;TZID=America/Chicago:20210720T120000
SUMMARY:Lunch and Learn
URL:https://www.gclra.realtor/consumer-events/71-affiliate-membership-event
 s/3546-lunch-and-learn
END:VEVENT
BEGIN:VEVENT
UID:20210728T100000CDT-9318c0OCni@http://lt19iws.rapams.com/
DTSTAMP:20260420T171610Z
CATEGORIES:Affiliate & Membership Events
DTSTART;TZID=America/Chicago:20210728T100000
DTEND;TZID=America/Chicago:20210728T140000
SUMMARY:MLS Training
URL:https://www.gclra.realtor/consumer-events/71-affiliate-membership-event
 s/3545-mls-training
END:VEVENT
END:VCALENDAR
