BEGIN:VCALENDAR
VERSION:2.0
PRODID:-//https://www.gclra.realtor//NONSGML kigkonsult.se iCalcreator 2.41.71//
CALSCALE:GREGORIAN
METHOD:PUBLISH
UID:36333732-3261-4831-b339-383564633339
X-WR-CALNAME:JCal Pro Calendar
X-WR-CALDESC:Your online events calendar
X-WR-TIMEZONE:America/Chicago
BEGIN:VTIMEZONE
TZID:America/Chicago
TZUNTIL:20271107T070000Z
BEGIN:STANDARD
TZNAME:CST
DTSTART:20251102T020000
TZOFFSETFROM:-0500
TZOFFSETTO:-0600
RDATE:20261101T020000
END:STANDARD
BEGIN:DAYLIGHT
TZNAME:CDT
DTSTART:20260308T020000
TZOFFSETFROM:-0600
TZOFFSETTO:-0500
RDATE:20270314T020000
END:DAYLIGHT
END:VTIMEZONE
BEGIN:VEVENT
UID:20240423T110000UTC-8787veV45p@https://gclra.realtor/
DTSTAMP:20260420T153752Z
CATEGORIES:Meetings
DTSTART;TZID=America/Chicago:20240423T000000
DTEND;TZID=America/Chicago:20240423T235959
SUMMARY:YPN
URL:https://www.gclra.realtor/consumer-events/81-meetings/3884-ypn
END:VEVENT
BEGIN:VEVENT
UID:20240424T110000UTC-8257NR3mm5@https://gclra.realtor/
DTSTAMP:20260420T153752Z
CATEGORIES:Meetings
DTSTART;TZID=America/Chicago:20240424T000000
DTEND;TZID=America/Chicago:20240424T235959
SUMMARY:COE/Mandatory
URL:https://www.gclra.realtor/consumer-events/81-meetings/3885-coe-mandator
 y
END:VEVENT
BEGIN:VEVENT
UID:20240425T110000UTC-60301rtvhv@https://gclra.realtor/
DTSTAMP:20260420T153752Z
CATEGORIES:Meetings
DTSTART;TZID=America/Chicago:20240425T000000
DTEND;TZID=America/Chicago:20240425T235959
SUMMARY:Board of Directors Meeting
URL:https://www.gclra.realtor/consumer-events/81-meetings/3886-board-of-dir
 ectors-meeting
END:VEVENT
BEGIN:VEVENT
UID:20240430T110000UTC-6452EMvUaG@https://gclra.realtor/
DTSTAMP:20260420T153752Z
CATEGORIES:Meetings
DTSTART;TZID=America/Chicago:20240430T000000
DTEND;TZID=America/Chicago:20240430T235959
SUMMARY:Lunch and Learn
URL:https://www.gclra.realtor/consumer-events/81-meetings/3887-lunch-and-le
 arn
END:VEVENT
END:VCALENDAR
