BEGIN:VCALENDAR
VERSION:2.0
PRODID:-//https://www.gclra.realtor//NONSGML kigkonsult.se iCalcreator 2.41.71//
CALSCALE:GREGORIAN
METHOD:PUBLISH
UID:39313733-3766-4733-a339-336663373665
X-WR-CALNAME:JCal Pro Calendar
X-WR-CALDESC:Your online events calendar
X-WR-TIMEZONE:America/Chicago
BEGIN:VTIMEZONE
TZID:America/Chicago
TZUNTIL:20271107T070000Z
BEGIN:STANDARD
TZNAME:CST
DTSTART:20251102T020000
TZOFFSETFROM:-0500
TZOFFSETTO:-0600
RDATE:20261101T020000
END:STANDARD
BEGIN:DAYLIGHT
TZNAME:CDT
DTSTART:20260308T020000
TZOFFSETFROM:-0600
TZOFFSETTO:-0500
RDATE:20270314T020000
END:DAYLIGHT
END:VTIMEZONE
BEGIN:VEVENT
UID:20220501T080000CDT-2686XrZRAX@https://gclra.realtor/
DTSTAMP:20260420T123725Z
CATEGORIES:Meetings
DTSTART;TZID=America/Chicago:20220501T080000
DTEND;TZID=America/Chicago:20220506T170000
SUMMARY:NAR Legislative Meetings
URL:https://www.gclra.realtor/consumer-events/81-meetings/3823-legislative
END:VEVENT
BEGIN:VEVENT
UID:20220104T090000CST-5741mrUaoC@https://gclra.realtor/
DTSTAMP:20260420T123725Z
CATEGORIES:Professional Development Committee
DTSTART;TZID=America/Chicago:20220104T090000
DTEND;TZID=America/Chicago:20220104T100000
RRULE:FREQ=MONTHLY;COUNT=12;INTERVAL=1;BYDAY=TU;BYSETPOS=1
SUMMARY:Education Meeting
URL:https://www.gclra.realtor/consumer-events/75-professional-development-c
 alendar/3630-education-meeting
END:VEVENT
END:VCALENDAR
