BEGIN:VCALENDAR
VERSION:2.0
PRODID:-//https://www.gclra.realtor//NONSGML kigkonsult.se iCalcreator 2.41.71//
CALSCALE:GREGORIAN
METHOD:PUBLISH
UID:39396135-6535-4666-b765-343037623639
X-WR-CALNAME:JCal Pro Calendar
X-WR-CALDESC:Your online events calendar
X-WR-TIMEZONE:America/Chicago
BEGIN:VTIMEZONE
TZID:America/Chicago
TZUNTIL:20271107T070000Z
BEGIN:STANDARD
TZNAME:CST
DTSTART:20251102T020000
TZOFFSETFROM:-0500
TZOFFSETTO:-0600
RDATE:20261101T020000
END:STANDARD
BEGIN:DAYLIGHT
TZNAME:CDT
DTSTART:20260308T020000
TZOFFSETFROM:-0600
TZOFFSETTO:-0500
RDATE:20270314T020000
END:DAYLIGHT
END:VTIMEZONE
BEGIN:VEVENT
UID:20240606T110000UTC-8320OVvgvB@https://gclra.realtor/
DTSTAMP:20260420T153930Z
CATEGORIES:Meetings
DTSTART;TZID=America/Chicago:20240606T000000
DTEND;TZID=America/Chicago:20240606T235959
SUMMARY:General Membership Meeting
URL:https://www.gclra.realtor/consumer-events/81-meetings/3896-general-memb
 ership-meeting
END:VEVENT
BEGIN:VEVENT
UID:20240611T110000UTC-4178gp1kbU@https://gclra.realtor/
DTSTAMP:20260420T153930Z
CATEGORIES:Meetings
DTSTART;TZID=America/Chicago:20240611T000000
DTEND;TZID=America/Chicago:20240611T235959
SUMMARY:Code of Ethics Class
URL:https://www.gclra.realtor/consumer-events/81-meetings/3897-code-of-ethi
 cs-class
END:VEVENT
BEGIN:VEVENT
UID:20240613T110000UTC-6172WnfEcG@https://gclra.realtor/
DTSTAMP:20260420T153930Z
CATEGORIES:Meetings
DTSTART;TZID=America/Chicago:20240613T000000
DTEND;TZID=America/Chicago:20240613T235959
SUMMARY:MLS Meeting
URL:https://www.gclra.realtor/consumer-events/81-meetings/3898-mls-meeting
END:VEVENT
BEGIN:VEVENT
UID:20240614T110000UTC-6965Kf3OJe@https://gclra.realtor/
DTSTAMP:20260420T153930Z
CATEGORIES:Meetings
DTSTART;TZID=America/Chicago:20240614T000000
DTEND;TZID=America/Chicago:20240614T235959
SUMMARY:LR Legislative Outreach Meeting
URL:https://www.gclra.realtor/consumer-events/81-meetings/3899-lr-legislati
 ve-outreach-meeting
END:VEVENT
BEGIN:VEVENT
UID:20240618T110000UTC-7507Avf4VS@https://gclra.realtor/
DTSTAMP:20260420T153930Z
CATEGORIES:Meetings
DTSTART;TZID=America/Chicago:20240618T000000
DTEND;TZID=America/Chicago:20240618T235959
SUMMARY:Commercial Class
URL:https://www.gclra.realtor/consumer-events/81-meetings/3900-commercial-c
 lass
END:VEVENT
BEGIN:VEVENT
UID:20240619T110000UTC-0178dKXFso@https://gclra.realtor/
DTSTAMP:20260420T153930Z
CATEGORIES:Meetings
DTSTART;TZID=America/Chicago:20240619T000000
DTEND;TZID=America/Chicago:20240619T235959
SUMMARY:Office Closed
URL:https://www.gclra.realtor/consumer-events/81-meetings/3901-office-close
 d
END:VEVENT
BEGIN:VEVENT
UID:20240620T110000UTC-8831enA5xh@https://gclra.realtor/
DTSTAMP:20260420T153930Z
CATEGORIES:Meetings
DTSTART;TZID=America/Chicago:20240620T000000
DTEND;TZID=America/Chicago:20240620T235959
SUMMARY:Finance Meeting
URL:https://www.gclra.realtor/consumer-events/81-meetings/3902-finance-meet
 ing
END:VEVENT
BEGIN:VEVENT
UID:20240627T110000UTC-0043ObSG0G@https://gclra.realtor/
DTSTAMP:20260420T153930Z
CATEGORIES:Meetings
DTSTART;TZID=America/Chicago:20240627T000000
DTEND;TZID=America/Chicago:20240627T235959
SUMMARY:Board of Directors Meeting
URL:https://www.gclra.realtor/consumer-events/81-meetings/3903-board-of-dir
 ectors-meeting
END:VEVENT
END:VCALENDAR
