BEGIN:VCALENDAR
VERSION:2.0
PRODID:-//https://www.gclra.realtor//NONSGML kigkonsult.se iCalcreator 2.41.71//
CALSCALE:GREGORIAN
METHOD:PUBLISH
UID:66333065-6136-4666-a364-663236643266
X-WR-CALNAME:JCal Pro Calendar
X-WR-CALDESC:Your online events calendar
X-WR-TIMEZONE:America/Chicago
BEGIN:VTIMEZONE
TZID:America/Chicago
TZUNTIL:20271107T070000Z
BEGIN:STANDARD
TZNAME:CST
DTSTART:20251102T020000
TZOFFSETFROM:-0500
TZOFFSETTO:-0600
RDATE:20261101T020000
END:STANDARD
BEGIN:DAYLIGHT
TZNAME:CDT
DTSTART:20260308T020000
TZOFFSETFROM:-0600
TZOFFSETTO:-0500
RDATE:20270314T020000
END:DAYLIGHT
END:VTIMEZONE
BEGIN:VEVENT
UID:20250320T150000UTC-4299gTfJ5a@https://gclra.realtor/
DTSTAMP:20260421T053502Z
CATEGORIES:Meetings
DTSTART;TZID=America/Chicago:20250320T150000
DTEND;TZID=America/Chicago:20250320T160000
RRULE:FREQ=MONTHLY;COUNT=2;INTERVAL=1;BYDAY=TH;BYSETPOS=4
SUMMARY:Board of Directors Meeting
URL:https://www.gclra.realtor/consumer-events/81-meetings/3906-board-of-dir
 ectors-meeting
END:VEVENT
BEGIN:VEVENT
UID:20250320T150000UTC-2785GbWAlG@https://gclra.realtor/
DTSTAMP:20260421T053502Z
CATEGORIES:Meetings
DTSTART;TZID=America/Chicago:20250320T150000
DTEND;TZID=America/Chicago:20250320T160000
RRULE:FREQ=MONTHLY;COUNT=2;INTERVAL=1;BYDAY=TH;BYSETPOS=3
SUMMARY:Finance Meeting 10am
URL:https://www.gclra.realtor/consumer-events/81-meetings/3908-finance-meet
 ing-10am
END:VEVENT
BEGIN:VEVENT
UID:20250320T160000UTC-3781SVlGJL@https://gclra.realtor/
DTSTAMP:20260421T053502Z
CATEGORIES:Meetings
DTSTART;TZID=America/Chicago:20250320T160000
DTEND;TZID=America/Chicago:20250320T170000
RRULE:FREQ=MONTHLY;COUNT=2;INTERVAL=1;BYDAY=TH;BYSETPOS=2
SUMMARY:MLS Committee Meeting 10am
URL:https://www.gclra.realtor/consumer-events/81-meetings/3910-mls-committe
 e-meeting-10am
END:VEVENT
END:VCALENDAR
